BEGIN:VCALENDAR
VERSION:2.0
PRODID:icalendar-ruby
CALSCALE:GREGORIAN
METHOD:PUBLISH
BEGIN:VEVENT
DTSTAMP:20260419T212016Z
UID:140-1115215@gracefs.com
DTSTART:20260514T170000Z
DTEND:20260514T180000Z
CLASS:PUBLIC
CREATED:20260401T155215
DESCRIPTION:Join other widows and widowers for lunch on Thursday\, May 14\,
  for a discussion on "What Now? Considerations after Widowhood." Whether y
 ou became a widow or widower months ago or many years ago\, this discussio
 n will help you think through some important legal and personal things tha
 t everyone needs to consider. It will also be a great time to meet other 
 people at Grace. Lunch is free but we ask that you sign up so that we have
  space and food for all. Sign up here.\nhttps://gccfs.breezechms.com/form/
 f6eefd
LAST-MODIFIED:20260401T155215
LOCATION:Activity Center 
SUMMARY:Lunch for Widows & Widowers 
URL;VALUE=URI:https://gracefs.com/events/lunch-for-widows-widowers/2026-05-
 14
ATTACH;FILENAME=Lunch-2.png;FMTTYPE=image/png:https://dq5pwpg1q8ru0.cloudfr
 ont.net/2026/04/01/20/52/15/1dbae043-51c4-41ed-839e-fee06c1cde41/Lunch-2.p
 ng
END:VEVENT
END:VCALENDAR
